BEGIN:VCALENDAR
VERSION:2.0
PRODID:-//ChamberMaster//Event Calendar 2.0//EN
METHOD:PUBLISH
X-PUBLISHED-TTL:P1H
REFRESH-INTERVAL:P1H
CALSCALE:GREGORIAN
BEGIN:VTIMEZONE
TZID:America/New_York
BEGIN:DAYLIGHT
RRULE:FREQ=YEARLY;BYMONTH=3;BYDAY=2SU
DTSTART:20070101T000000
TZOFFSETFROM:-0500
TZOFFSETTO:-0400
TZNAME:Eastern Daylight Time
END:DAYLIGHT
BEGIN:STANDARD
RRULE:FREQ=YEARLY;BYMONTH=11;BYDAY=1SU
DTSTART:20070101T000000
TZOFFSETFROM:-0400
TZOFFSETTO:-0500
TZNAME:Eastern Standard Time
END:STANDARD
END:VTIMEZONE
BEGIN:VEVENT
DTSTART;VALUE=DATE:20270418
DTEND;VALUE=DATE:20270422
TRANSP:TRANSPARENT
X-MICROSOFT-CDO-ALLDAYEVENT:TRUE
SUMMARY:2027 ACEC National Annual Convention & Legislative Summit
DESCRIPTION:ACEC 2027 Annual Convention & Legislative SummitApril 18 21\, 2027 \nGrand Hyatt Washington\nWashington\, DChttps://www.acec.org/education-events/events/future-conferences/
X-ALT-DESC;FMTTYPE=text/html:<!DOCTYPE html><html><head><title></title></head><body aria-disabled="false"><div data-node="kx962qaw41mh" style="box-sizing: border-box\; color: rgb(0\, 0\, 0)\; font-family: Raleway\, sans-serif\; font-size: 18px\; font-style: normal\; font-variant-ligatures: normal\; font-variant-caps: normal\; font-weight: 500\; letter-spacing: normal\; orphans: 2\; text-align: start\; text-indent: 0px\; text-transform: none\; widows: 2\; word-spacing: 0px\; -webkit-text-stroke-width: 0px\; white-space: normal\; text-decoration-thickness: initial\; text-decoration-style: initial\; text-decoration-color: initial\;"><div style="box-sizing: border-box\; margin: 20px 30px 0px\;"><h3 style='box-sizing: border-box\; font-family: "Playfair Display"\, serif\; font-weight: 600\; line-height: 1.4\; color: rgb(33\, 49\, 56)\; margin: 0px !important\; font-size: 32px\; text-transform: none\; font-style: normal\; letter-spacing: 0px\; padding: 0px !important\;'><span style="box-sizing: border-box\;">ACEC 2027 Annual Convention &amp\; Legislative Summit</span></h3></div></div><div data-node="sm28koen5vbg" style="box-sizing: border-box\; color: rgb(0\, 0\, 0)\; font-family: Raleway\, sans-serif\; font-size: 18px\; font-style: normal\; font-variant-ligatures: normal\; font-variant-caps: normal\; font-weight: 500\; letter-spacing: normal\; orphans: 2\; text-align: start\; text-indent: 0px\; text-transform: none\; widows: 2\; word-spacing: 0px\; -webkit-text-stroke-width: 0px\; white-space: normal\; text-decoration-thickness: initial\; text-decoration-style: initial\; text-decoration-color: initial\;"><div style="box-sizing: border-box\; margin: 20px 30px 30px\;"><div style="box-sizing: border-box\;"><p style="box-sizing: border-box\; margin: 0px 0px 1em\; letter-spacing: 0.08em\;">April 18&ndash\;21\, 2027 <br style="box-sizing: border-box\;"><a data-feathr-click-track="true" data-feathr-link-aids='["5f20694a6ff8d3c399a1df8a"]\,5f20694a6ff8d3c399a1df8a' fr-original-style="box-sizing: border-box\; background-color: transparent\; color: rgb(224\, 154\, 16)\; text-decoration: none\; letter-spacing: 0.08em\;" href="https://www.hyatt.com/en-US/hotel/washington-dc/grand-hyatt-washington/wasgh" rel="noopener" style="box-sizing: border-box\; background-color: transparent\; color: rgb(224\, 154\, 16)\; text-decoration: none\; letter-spacing: 0.08em\; user-select: auto\;" target="_blank">Grand Hyatt Washington</a><br style="box-sizing: border-box\;">Washington\, DC</p><p style="box-sizing: border-box\; margin: 0px 0px 1em\; letter-spacing: 0.08em\;"><a fr-original-style="" href="https://www.acec.org/education-events/events/future-conferences/" style="user-select: auto\;">https://www.acec.org/education-events/events/future-conferences/</a></p></div></div></div></body></html>
LOCATION:Grand Hyatt Washington Washington\, D.C.
UID:e.4302.1209836
SEQUENCE:3
DTSTAMP:20260421T060538Z
URL:https://acecmassachusetts.growthzoneapp.com/committeecalendar/Details/2027-acec-national-annual-convention-legislative-summit-1412639?sourceTypeId=Hub
END:VEVENT
END:VCALENDAR
